
BEGIN:VCALENDAR
PRODID:-//Friedel, Williams & Edmunds Funeral Home//NONSGML v1.0//EN
VERSION:2.0
METHOD:PUBLISH
BEGIN:VEVENT
DTSTART;TZID=America/New_York:20260328T083000
DTEND;TZID=America/New_York:20260328T083000
URL:https://www.fwefh.com/obituaries-and-services/win-zaw-myint/
SUMMARY:Win Zaw Myint
LOCATION:Myanmar Christian Fellowship  (Utica )
END:VEVENT
END:VCALENDAR