
BEGIN:VCALENDAR
PRODID:-//Friedel, Williams & Edmunds Funeral Home//NONSGML v1.0//EN
VERSION:2.0
METHOD:PUBLISH
BEGIN:VEVENT
DTSTART;TZID=America/New_York:20260328T104500
DTEND;TZID=America/New_York:20260328T104500
URL:https://www.fwefh.com/obituaries-and-services/win-zaw-myint/
SUMMARY:Win Zaw Myint Cemetary Services
LOCATION:Forest Hill Cemetery (Utica)
END:VEVENT
END:VCALENDAR