
BEGIN:VCALENDAR
PRODID:-//Friedel, Williams & Edmunds Funeral Home//NONSGML v1.0//EN
VERSION:2.0
METHOD:PUBLISH
BEGIN:VEVENT
DTSTART;TZID=America/New_York:20210104T113000
DTEND;TZID=America/New_York:20210104T113000
URL:https://www.fwefh.com/obituaries-and-services/maria-and-yakov-yakimchuk-utica-ny/
SUMMARY:Maria and Yakov  Yakimchuk 
LOCATION:Slavic Pentecostal Church (Utica)
END:VEVENT
END:VCALENDAR