
BEGIN:VCALENDAR
PRODID:-//Friedel, Williams & Edmunds Funeral Home//NONSGML v1.0//EN
VERSION:2.0
METHOD:PUBLISH
BEGIN:VEVENT
DTSTART;TZID=America/New_York:20191027T140000
DTEND;TZID=America/New_York:20191027T160000
URL:https://www.fwefh.com/obituaries-and-services/dr-thomas-allen-clark-new-hartford-ny/
SUMMARY:Dr. Thomas Allen Clark Visitation
LOCATION:Friedel Williams & Edmunds Funeral Home (Sadaquada Golf Club)
END:VEVENT
END:VCALENDAR